Felt | Verdi |
AlreadyApplied | True |
Aperture | 1.0 |
ApertureValue | 1.0 |
BitsPerSample | 8 |
BlueHue | 0 |
BlueSaturation | 0 |
Brightness | -11 |
CameraProfile | Embedded |
Caption-Abstract | HDR tonemapped |
ChromaticAberrationB | 0 |
ChromaticAberrationR | 0 |
Clarity | 29 |
ColorComponents | 3 |
Contrast | +12 |
ConvertToGrayscale | True |
CreatorTool | Adobe Photoshop Lightroom |
CropAngle | 0.191174 |
CropBottom | 0.99952 |
CropHeight | 632 |
CropLeft | 0.003388 |
CropRight | 0.900675 |
CropTop | 0.095726 |
CropUnit | pixels |
CropWidth | 950 |
Defringe | 0 |
Description | HDR tonemapped |
Exposure | 0.00 |
ExposureTime | 1 |
FillLight | 0 |
FNumber | 1.0 |
FocalLength | 1.0 mm |
FocalLength35efl | 1.0 mm |
GrayMixerAqua | 0 |
GrayMixerBlue | 0 |
GrayMixerGreen | 0 |
GrayMixerMagenta | +4 |
GrayMixerOrange | 0 |
GrayMixerPurple | +15 |
GrayMixerRed | -9 |
GrayMixerYellow | 0 |
GreenHue | 0 |
GreenSaturation | 0 |
HasCrop | True |
HasSettings | True |
HighlightRecovery | 44 |
ImageDescription | HDR tonemapped |
ImageHeight | 632 |
ImageSize | 950x632 |
ImageWidth | 950 |
IncrementalTemperature | 0 |
IncrementalTint | +21 |
ISO | 100 |
Keywords | b&w, landscape, landskap, norge, norvege, norway, paysage |
LightValue | 0.0 |
LuminanceSmoothing | 100 |
Make | Mediachance |
Megapixels | 0.600 |
ModifyDate (1) | 2007:12:11 22:53:38+01:00 |
ModifyDate | 2007:12:11 22:53:38 |
ParametricDarks | 0 |
ParametricHighlights | 0 |
ParametricHighlightSplit | 75 |
ParametricLights | 0 |
ParametricMidtoneSplit | 50 |
ParametricShadows | 0 |
ParametricShadowSplit | 25 |
ProfileDescription | sRGB IEC61966-2.1 |
RedHue | 0 |
RedSaturation | 0 |
Shadows | 0 |
ShadowTint | 0 |
SharpenDetail | 0 |
SharpenEdgeMasking | 79 |
SharpenRadius | +1.3 |
Sharpness | 48 |
ShutterSpeed | 1 |
ShutterSpeedValue | 1 |
Software | LightZone |
SplitToningBalance | +69 |
SplitToningHighlightHue | 231 |
SplitToningHighlightSaturation | 10 |
SplitToningShadowHue | 227 |
SplitToningShadowSaturation | 17 |
Subject | b&w, landscape, landskap, norge, norvege, norway, paysage |
ToneCurve | 0, 0, 255, 255 |
ToneCurveName | Linear |
Version | 1.0 |
VignetteAmount | -38 |
VignetteMidpoint | 0 |
WhiteBalance | Custom |